BEGIN:VCALENDAR
VERSION:2.0
PRODID:-//TEEX Workforce Development - ECPv6.15.20//NONSGML v1.0//EN
CALSCALE:GREGORIAN
METHOD:PUBLISH
X-WR-CALNAME:TEEX Workforce Development
X-ORIGINAL-URL:https://workforce.teex.org
X-WR-CALDESC:Events for TEEX Workforce Development
REFRESH-INTERVAL;VALUE=DURATION:PT1H
X-Robots-Tag:noindex
X-PUBLISHED-TTL:PT1H
BEGIN:VTIMEZONE
TZID:America/Chicago
BEGIN:DAYLIGHT
TZOFFSETFROM:-0600
TZOFFSETTO:-0500
TZNAME:CDT
DTSTART:20250309T080000
END:DAYLIGHT
BEGIN:STANDARD
TZOFFSETFROM:-0500
TZOFFSETTO:-0600
TZNAME:CST
DTSTART:20251102T070000
END:STANDARD
BEGIN:DAYLIGHT
TZOFFSETFROM:-0600
TZOFFSETTO:-0500
TZNAME:CDT
DTSTART:20260308T080000
END:DAYLIGHT
BEGIN:STANDARD
TZOFFSETFROM:-0500
TZOFFSETTO:-0600
TZNAME:CST
DTSTART:20261101T070000
END:STANDARD
BEGIN:DAYLIGHT
TZOFFSETFROM:-0600
TZOFFSETTO:-0500
TZNAME:CDT
DTSTART:20270314T080000
END:DAYLIGHT
BEGIN:STANDARD
TZOFFSETFROM:-0500
TZOFFSETTO:-0600
TZNAME:CST
DTSTART:20271107T070000
END:STANDARD
END:VTIMEZONE
BEGIN:VEVENT
DTSTART;TZID=America/Chicago:20260507T080000
DTEND;TZID=America/Chicago:20260507T120000
DTSTAMP:20260420T034834
CREATED:20260417T153638Z
LAST-MODIFIED:20260417T153638Z
UID:10000856-1778140800-1778155200@workforce.teex.org
SUMMARY:Lean Fundamentals (AM)
DESCRIPTION: 
URL:https://workforce.teex.org/event/lean-fundamentals-am-11/
LOCATION:City of Harlingen
CATEGORIES:Rio Grande Valley
END:VEVENT
BEGIN:VEVENT
DTSTART;TZID=America/Chicago:20260507T130000
DTEND;TZID=America/Chicago:20260507T170000
DTSTAMP:20260420T034834
CREATED:20260417T153926Z
LAST-MODIFIED:20260417T153926Z
UID:10000857-1778158800-1778173200@workforce.teex.org
SUMMARY:Lean Fundamentals (PM)
DESCRIPTION: 
URL:https://workforce.teex.org/event/lean-fundamentals-pm-8/
LOCATION:City of Harlingen
CATEGORIES:Rio Grande Valley
END:VEVENT
END:VCALENDAR